BEGIN:VCALENDAR
VERSION:2.0
PRODID:icalendar-ruby
CALSCALE:GREGORIAN
METHOD:PUBLISH
BEGIN:VEVENT
DTSTAMP:20260424T120444Z
UID:9-292092@fathershousekerman.com
DTSTART:20261025T172000Z
DTEND:20261025T190000Z
CLASS:PUBLIC
CREATED:20260423T200205
DESCRIPTION:
LAST-MODIFIED:20260423T200205
LOCATION:789 S. 2nd Street Kerman\, Ca 93630
SUMMARY:Worship Gathering
URL;VALUE=URI:https://fathershousekerman.com/events/worship-gathering/2026-
 10-25
ATTACH;FILENAME=serv.png;FMTTYPE=image/png:https://dq5pwpg1q8ru0.cloudfront
 .net/2025/01/23/21/17/41/beb31f80-ff87-4cc4-834e-1d3668f09f32/serv.png
END:VEVENT
END:VCALENDAR
